BEGIN:VCALENDAR
VERSION:2.0
METHOD:PUBLISH
BEGIN:VEVENT
DTSTART:20260427T200000Z
DTEND:20260504T200000Z
SUMMARY:Techniques of Teaching Arabic Language to Foreigners
CLASS:PUBLIC
END:VEVENT
END:VCALENDAR